BEGIN:VCALENDAR
VERSION:2.0
PRODID:-//eventon.com NONSGML v1.0//EN
CALSCALE:GREGORIAN
METHOD:PUBLISH
BEGIN:VEVENT
UID:69e5ea7868823
DTSTAMP:20260420T085728Z
DTSTART:20250408T223000Z
DTEND:20250409T013000Z
LOCATION:Lips Drag Queen Show Palace\,  Restaurant &amp; Bar 3011 Buford Hwy NE\,  Atlanta\,  GA 30329
SUMMARY:Prom Night
DESCRIPTION:THE PROM YOU MISSED DRAG BINGO Join Pets Are Loving Support (PA
 LS) on Tuesday\,  April 8th for Atlanta&#8217;s longest running drag bingo 
 game. This month&#8217;s theme is &#8220;The Prom You Missed&#8221; Drag Bi
 ngo hosted by Bubba D. Licious and Erica Lee.  Doors open at 6:30 pm and t
 he show begins[..]\nhttps://www.palsatlanta.org/events/prom/
URL:https://www.palsatlanta.org/events/prom/
END:VEVENT
END:VCALENDAR