BEGIN:VCALENDAR
VERSION:2.0
PRODID:-//eventon.com NONSGML v1.0//EN
CALSCALE:GREGORIAN
METHOD:PUBLISH
BEGIN:VEVENT
UID:69e9d0c4a18c3
DTSTAMP:20260423T075652Z
DTSTART:20250708T223000Z
DTEND:20250709T013000Z
LOCATION:Lips Drag Queen Show Palace\,  Restaurant &amp; Bar 3011 Buford Hwy NE\,  Atlanta\,  GA 30329
SUMMARY:Mrs. Roper Drag Bingo featuring Nicole Paige Brooks and Mona Lott Moore-Brown
DESCRIPTION:2025 PALS Atlanta Drag Bingo &#8211; Mrs. Roper Night Sponsored
  by The Colonnade Get those wigs and caftans out because it is Mrs. Roper N
 ight at Pets Are Loving Support (PALS) Drag Bingo on Tuesday\,  July  8th.
  Join us for the nation&#8217;s longest running drag bingo game hosted by B
 ubba[..]\nhttps://www.palsatlanta.org/mrs-roper-drag-bingo-featuring-nicole
 -paige-brooks-and-mona-lott-moore-brown/
URL:https://www.palsatlanta.org/mrs-roper-drag-bingo-featuring-nicole-paige-brooks-and-mona-lott-moore-brown/
END:VEVENT
END:VCALENDAR